BEGIN:VCALENDAR
VERSION:2.0
PRODID:-//Cattails Golf Club - Alamosa, CO - ECPv6.15.20//NONSGML v1.0//EN
CALSCALE:GREGORIAN
METHOD:PUBLISH
X-ORIGINAL-URL:https://www.alamosacattails.com
X-WR-CALDESC:Events for Cattails Golf Club - Alamosa, CO
REFRESH-INTERVAL;VALUE=DURATION:PT1H
X-Robots-Tag:noindex
X-PUBLISHED-TTL:PT1H
BEGIN:VTIMEZONE
TZID:UTC
BEGIN:STANDARD
TZOFFSETFROM:+0000
TZOFFSETTO:+0000
TZNAME:UTC
DTSTART:20240101T000000
END:STANDARD
END:VTIMEZONE
BEGIN:VEVENT
DTSTART;TZID=UTC:20250817T140000
DTEND;TZID=UTC:20250817T140000
DTSTAMP:20260421T101929
CREATED:20250710T131043Z
LAST-MODIFIED:20250725T152729Z
UID:10000007-1755439200-1755439200@www.alamosacattails.com
SUMMARY:Adult Child Tournament
DESCRIPTION:Two player alternate shot tournament. Teams must consist of one junior and one adult.
URL:https://www.alamosacattails.com/event/adult-child-tournament/
CATEGORIES:Tournaments
END:VEVENT
END:VCALENDAR